BEGIN:VCALENDAR
VERSION:2.0
PRODID:-//HR Terasz - ECPv6.15.13//NONSGML v1.0//EN
CALSCALE:GREGORIAN
METHOD:PUBLISH
X-WR-CALNAME:HR Terasz
X-ORIGINAL-URL:https://hrterasz.hu
X-WR-CALDESC:Események HR Terasz
REFRESH-INTERVAL;VALUE=DURATION:PT1H
X-Robots-Tag:noindex
X-PUBLISHED-TTL:PT1H
BEGIN:VTIMEZONE
TZID:Europe/Budapest
BEGIN:DAYLIGHT
TZOFFSETFROM:+0100
TZOFFSETTO:+0200
TZNAME:CEST
DTSTART:20250330T010000
END:DAYLIGHT
BEGIN:STANDARD
TZOFFSETFROM:+0200
TZOFFSETTO:+0100
TZNAME:CET
DTSTART:20251026T010000
END:STANDARD
BEGIN:DAYLIGHT
TZOFFSETFROM:+0100
TZOFFSETTO:+0200
TZNAME:CEST
DTSTART:20260329T010000
END:DAYLIGHT
BEGIN:STANDARD
TZOFFSETFROM:+0200
TZOFFSETTO:+0100
TZNAME:CET
DTSTART:20261025T010000
END:STANDARD
BEGIN:DAYLIGHT
TZOFFSETFROM:+0100
TZOFFSETTO:+0200
TZNAME:CEST
DTSTART:20270328T010000
END:DAYLIGHT
BEGIN:STANDARD
TZOFFSETFROM:+0200
TZOFFSETTO:+0100
TZNAME:CET
DTSTART:20271031T010000
END:STANDARD
END:VTIMEZONE
BEGIN:VEVENT
DTSTART;TZID=Europe/Budapest:20260506T150000
DTEND;TZID=Europe/Budapest:20260506T160000
DTSTAMP:20260422T173724
CREATED:20260421T122632Z
LAST-MODIFIED:20260421T122632Z
UID:10000029-1778079600-1778083200@hrterasz.hu
SUMMARY:Költségcsökkentés vagy öngól – HR dilemmák nehezebb időkben
DESCRIPTION:Költségcsökkentés vagy öngól – HR dilemmák nehezebb időkben\n				\n				\n			\n				\n				\n				\n				\n				Online adás\n			\n			\n				\n				\n				\n				\n			\n				\n				\n			\n				\n				\n				\n				\n				\n				\n				\n				\n				\n				\n				\n				\n				\n				\n				\n				\n				\n				2026.05.06.  \n15:00-16:00\nOnline közvetítés (zárt felületen)\n\nRésztvevők: \nDöme András Senior HR tanácsadó\, HR Impact Advisory \nSzabó Viktória HR tanácsadó\, Elevate HR \nTovábbi vendégek hamarosan \nModerátor:   \nFata Lászó  \nCafeteriaTREND \n			\n				\n				\n				\n				\n				A rendezvény ingyenes de regisztrációhoz kötött. Töltsd ki az alábbi űrlapot a regisztrációhoz! \n			\n				Regisztrálok\n			\n			\n				\n				\n				\n				\n				\n				\n				\n				\n				\n				Gazdasági nehézségek idején a költségcsökkentés szinte elkerülhetetlen. De vajon egy megszorítás segíti a szervezet túlélését? Vagy éppen a kilábaláshoz szükséges dolgokat bontjuk le?  \nEbben az adásban azt járjuk körül\, hogyan tud a HR tudatosan hozzányúlni a költségekhez úgy\, hogy közben ne ássa alá a jövőbeni növekedést.   \n• Mely HR-költségekhez lehet bátrabban hozzányúlni?   \n• Hol van az a pont\, ahol a spórolás már rombolja a szervezet működését?   \n• Tipikus hibák: amikor a rövid távú megtakarítás hosszú távú veszteséggé válik   \n• A pszichológiai hatások: ne égessük fel a bizalmat és a jövőt  \n Ezeken a kérdéseken kívül ebben az adásban megmutatjuk\, hogyan lehet úgy optimalizálni a kiadásokat\, hogy közben ne veszítsük el a legfontosabb erőforrást – az embereket és a jövő lehetőségét.  \n			\n			\n				\n				\n				\n				\n			\n				\n				\n				\n				\n				\n				\n				\n				\n				\n				\n				Résztvevők:\n			\n			\n				\n				\n				\n				\n			\n				\n				\n				\n				\n				\n				\n				\n				\n				\n				\n				\n					\n					\n						Döme András\n						Senior HR tanácsadó\,  \nHR Impact Advisory  \n					\n				\n			\n				\n				\n				\n				\n				Követés\n			\n			\n				\n				\n				\n				\n				\n				\n				\n				\n				\n				\n					\n					\n						Szabó Viktória\n						HR tanácsadó\,  \nElevate HR \n					\n				\n			\n				\n				\n				\n				\n				Követés\n			\n			\n				\n				\n				\n				\n				\n				\n				\n				\n				\n				\n					\n					\n						Fata lászló\n						Moderátor \nCafeteria TREND \n					\n				\n			\n				\n				\n				\n				\n				Követés\n			\n			\n				\n				\n				\n				\n			\n				\n				\n				\n				\n				\n				\n				\n				\n				\n				\n				\n                \n                        \n                            Költségcsökkentés vagy öngól- műsor helyfoglalás\n                            Foglalj helyet díjmentesen online műsorunkra az adatlap kitöltésével. \n                        \n                        \n                                    Kapcsolati adatokNév(Kötelező)\n                            \n                            \n                                                    Vezetéknév\n                                                    \n                                                \n                            \n                            \n                                                            Keresztnév\n                                                            \n                                                        \n                            \n                        Email:(Kötelező)\n                            \n                        \n                    \n                    \n                          \n                    \n                \n                \n                    \n                        Általános adatokBeosztás:(Kötelező)HR Business PartnerHR ManagerHead of HRHR generalistaHR asszisztensHR koordinátorMunkaügyi asszisztensSzemélyzeti asszisztensToborzási- és kiválasztási specialistaRecruiterHR ResearcherHR gyakornokEgyébHa 'egyéb' a foglalkozásod akkor mi az? Cégnév:(Kötelező) Alkalmazottak száma:(Kötelező)Elérhetőség:Telefon(Kötelező)Hozzájárulás adataim kezeléséhez(Kötelező) Megismertem és elfogadom az adatvédelmi szabályzatot.
URL:https://hrterasz.hu/esemenyek/koltsegcsokkentes-vagy-ongol-hr-dilemmak/
CATEGORIES:Online műsor
ATTACH;FMTTYPE=image/png:https://hrterasz.hu/wp-content/uploads/2026/04/Koltsegcsokkentes-vagy-ongol-42-HR-Terasz1200x628.png
ORGANIZER;CN="Fata L%C3%A1szl%C3%B3":MAILTO:info@hrterasz.hu
END:VEVENT
END:VCALENDAR