BEGIN:VCALENDAR
VERSION:2.0
PRODID:-//HR Terasz - ECPv6.15.13//NONSGML v1.0//EN
CALSCALE:GREGORIAN
METHOD:PUBLISH
X-ORIGINAL-URL:https://hrterasz.hu
X-WR-CALDESC:Események HR Terasz
REFRESH-INTERVAL;VALUE=DURATION:PT1H
X-Robots-Tag:noindex
X-PUBLISHED-TTL:PT1H
BEGIN:VTIMEZONE
TZID:Europe/Budapest
BEGIN:DAYLIGHT
TZOFFSETFROM:+0100
TZOFFSETTO:+0200
TZNAME:CEST
DTSTART:20240331T010000
END:DAYLIGHT
BEGIN:STANDARD
TZOFFSETFROM:+0200
TZOFFSETTO:+0100
TZNAME:CET
DTSTART:20241027T010000
END:STANDARD
BEGIN:DAYLIGHT
TZOFFSETFROM:+0100
TZOFFSETTO:+0200
TZNAME:CEST
DTSTART:20250330T010000
END:DAYLIGHT
BEGIN:STANDARD
TZOFFSETFROM:+0200
TZOFFSETTO:+0100
TZNAME:CET
DTSTART:20251026T010000
END:STANDARD
BEGIN:DAYLIGHT
TZOFFSETFROM:+0100
TZOFFSETTO:+0200
TZNAME:CEST
DTSTART:20260329T010000
END:DAYLIGHT
BEGIN:STANDARD
TZOFFSETFROM:+0200
TZOFFSETTO:+0100
TZNAME:CET
DTSTART:20261025T010000
END:STANDARD
END:VTIMEZONE
BEGIN:VEVENT
DTSTART;TZID=Europe/Budapest:20251030T090000
DTEND;TZID=Europe/Budapest:20251030T140000
DTSTAMP:20260419T162650
CREATED:20250910T142000Z
LAST-MODIFIED:20251022T111527Z
UID:10000017-1761814800-1761832800@hrterasz.hu
SUMMARY:Zwack Unicum gyárlátogatás
DESCRIPTION:Zwack Unicum gyárlátogatás\n				\n				\n			\n			\n				\n				\n				\n				\n			\n				\n				\n			\n				\n				\n				\n				\n				\n				\n				\n				\n				\n				\n				\n				\n				\n				\n				\n				\n				\n				2025.10.30.  \n9:00-14:00\nBudapest\, 1095 Soroksári út 26. \nKlubesemény HR Terasz tagoknak \nMaximum 20 fő \nAz esemény ingyenes de regisztrációhoz kötött.  \n			\n				\n				\n				\n				\n				A létszám megtelt. \n			\n			\n				\n				\n				\n				\n				\n				\n				\n				\n				\n				Vegyél részt egy különleges szakmai programon a Zwack Unicum Nyrt.-nél! Az üzemlátogatás során bepillanthatsz a több mint 200 éves hagyományokra épülő Unicum gyártásába\, megismerheted a vállalat történetét és innovációi\, belekóstolhatsz a különlegességekbe\, majd közös ebéd után egy interaktív brainstormingon oszthatod meg tapasztalataidat a teljesítményértékelésről. Inspiráló szakmai élmény\, amit érdemes megtapasztalnod! Elsősorban termelői vállalatok HR-esei számára ajánljuk a programot.   \n			\n			\n				\n				\n				\n				\n			\n				\n				\n				\n				\n				\n				\n				\n				\n				\n				\n				Programterv:\n			\n				\n				\n				\n				\n				09:00-09:30 érkezés\, a házigazda köszöntője  \n09:30-10:00 Bemutatkozás  \n10:00-12:00 Brainstorming: Teljesítményértekeléssel kapcsolatos tapasztalatok megosztása  \n12:00-12:30 ebéd a közeli kantinban  \n13:00-14:00 cégismertető\, körbevezetés\, opcionális kóstoló  \n  \n  \n  \n			\n			\n				\n				\n				\n				\n				\n				\n				\n				\n				\n				A Zwack Unicumról\n			\n				\n				\n				\n				\n				A Zwack Unicum Nyrt. Magyarország vezető italgyártó és –forgalmazó vállalata\, amelynek története több mint két évszázadra nyúlik vissza. Ikonikus terméke\, az Unicum\, több mint 40 gyógynövény felhasználásával\, titkos recept alapján készül\, és máig a cég zászlóshajója. A hatodik generációs Zwack család irányítása alatt a vállalat ötvözi a hagyományt és az innovációt – ennek eredménye többek között az Unicum Szilva és az Unicum Riserva. Széles portfóliójukban olyan magyar márkák szerepelnek\, mint a St. Hubertus\, Fütyülős vagy a Zwack Nemes Pálinka\, emellett nemzetközi prémium italok – például Johnnie Walker\, Baileys vagy Captain Morgan – forgalmazását is ellátják Magyarországon.  \nHonlap: www.zwackunicum.hu \n			\n				\n				\n				\n				\n				KövetésKövetés\n			\n			\n				\n				\n				\n				\n			\n				\n				\n				\n				\n				\n				\n				\n				\n				\n				\n				Extra: Brainstorming HR Terasz tagokkal\n			\n				\n				\n				\n				\n				Téma: Teljesítményértékelés a gyakorlatban \nA közös beszélgetés során a teljesítményértékeléshez kapcsolódó tapasztalatokat\, bevált módszereket és jógyakorlatokat gyűjtjük össze. Célunk\, hogy egymást inspirálva konkrét példákat osszunk meg\, amelyek segíthetnek a saját szervezeti folyamatok fejlesztésében is.  \n			\n			\n				\n				\n				\n				\n			\n				\n				\n				\n				\n				\n				\n				\n				\n				\n				\n				Egyéb információk\n			\n				\n				\n				\n				\n				 Az eseményen lehetőséged nyílik különlegességeket kóstolni\, melyek alkohol tartalmúak. ezért kérlek vedd figyelembe az utazási eszköz kiválasztásakor. Az oda– és a visszautazás saját szervezésben történik\, de érdemes a csoportban egyeztetni a résztvevőkkel és akár közös autókba szerveződni\, hogy csökkentsük a szénlábnyomot.  Parkolás az utcán lehetséges\, mely fizető zóna.   \n			\n			\n				\n				\n				\n				\n			\n				\n				\n				\n				\n				\n				\n				\n				\n				\n				\n				Részvétel \n			\n				\n				\n				\n				\n				Az eseményre limitált számban (20 fő) tudjuk fogadni tagjainkat. Érdemes minél előbb jelezni részvételi szándékod a jelentkezési űrlap kitöltésével. Az üzemlátogatáshoz saját chatcsoportot indítunk\, ahol lehetőséged van beszélgetni a házigazdával és a résztvevő HR-es tagtársaiddal.  \n			\n			\n				\n				\n				\n				\n			\n				\n				\n			\n				\n				\n				\n				\n				\n				\n				\n				\n				\n				\n				\n				\n				\n				\n				\n				\n				\n				Jelentkezz most\n			\n				\n				\n				\n				\n				Az esemény ingyenes\, de regisztrációhoz kötött\, kizárólag HR Terasz tagok vehetnek részt. Ha még nem vagy tag akkor emberi erőforrás területen dolgozó területen dolgozóként díjmentesen csatlakozhatsz szakmai közösségünkhöz. Olvasd el részletes szabályzatunkat és regisztrálj itt tagnak.  \n			\n				\n				\n				\n				\n				A létszám megtelt.
URL:https://hrterasz.hu/esemenyek/zwack-unicum-gyarlatogatas/
LOCATION:Zwack Unicum Likőripari és Kereskedelmi Nyilvánosan Működő Részvénytársaság\, Soroksári út 26.\, Budapest\, Budapest\, 1095\, Hungary
CATEGORIES:Gyárlátogatás
ATTACH;FMTTYPE=image/png:https://hrterasz.hu/wp-content/uploads/2025/09/Zwack-gyarlatogatas-2025-11-HR-Terasz-1200x628-1.png
ORGANIZER;CN="HR Terasz":MAILTO:info@hrterasz.hu
END:VEVENT
BEGIN:VEVENT
DTSTART;TZID=Europe/Budapest:20250611T100000
DTEND;TZID=Europe/Budapest:20250611T150000
DTSTAMP:20260419T162651
CREATED:20250522T121123Z
LAST-MODIFIED:20250522T122140Z
UID:10000013-1749636000-1749654000@hrterasz.hu
SUMMARY:Nokia Bell Labs látogatás
DESCRIPTION:A tartalom védett.
URL:https://hrterasz.hu/esemenyek/nokia-bell-labs-latogatas/
LOCATION:Nokia Bell Labs Budapest\, Bókay János u. 36-42\,\, Budapest\, Budapest\, 1083\, Hungary
CATEGORIES:Gyárlátogatás
ORGANIZER;CN="HR Terasz":MAILTO:info@hrterasz.hu
END:VEVENT
BEGIN:VEVENT
DTSTART;TZID=Europe/Budapest:20250514T100000
DTEND;TZID=Europe/Budapest:20250514T150000
DTSTAMP:20260419T162651
CREATED:20250314T095941Z
LAST-MODIFIED:20250429T061148Z
UID:10000001-1747216800-1747234800@hrterasz.hu
SUMMARY:Gyárlátogatás: HDT Veritas-program
DESCRIPTION:Zwack Unicum gyárlátogatás\n				\n				\n			\n			\n				\n				\n				\n				\n			\n				\n				\n			\n				\n				\n				\n				\n				\n				\n				\n				\n				\n				\n				\n				\n				\n				\n				\n				\n				\n				2025.05.14.  \n10:00-15:00\nDunakiliti\, 9225 Veritas u. 1. sz. Alatt\nÜzemlátogatás HR Terasz tagoknak \nMaximum 20 fő \nAz esemény ingyenes\, de regisztrációhoz kötött. \n			\n				\n				\n				\n				\n				A létszám megtelt. \n			\n			\n				\n				\n				\n				\n				\n				\n				\n				\n				\n				Különleges lehetőség nyílik\, hogy betekintsünk egy innovatív autóipari vállalat üzemébe egyik kedves tagunk felajánlása révén.  Fedezd fel hogyan működik egy ilyen speciális gyártóüzem\, nyerj szakmai tapasztalatokat és egy közös brainstorming keretében\, vigyél haza inspiráló gondolatokat aktuális HR kérdésekben.  Kizárólag HR Terasz tagok számára elérhető esemény. Gyere és vegyél részt ezen az exkluzív gyári túrán!  \n  \n			\n			\n				\n				\n				\n				\n			\n				\n				\n				\n				\n				\n				\n				\n				\n				\n				\n				Programterv:\n			\n				\n				\n				\n				\n				Találkozó a bejáratnál  \nRövid cégbemutató \nÜzemlátogatás \nEbéd a kantinban \nBrainstorming HR Terasz tagokkal  \n  \n  \n			\n			\n				\n				\n				\n				\n				\n				\n				\n				\n				\n				A HDT Veritas-ról:\n			\n				\n				\n				\n				\n				A HDT Veritas Hessen GmbH innovatív megoldásokat kínál az autóipar jelenlegi és jövőbeli globális kihívásaira. Célunk a folyadék-\, hő- és tömítéskezelés. Szállítóként vezető szerepet töltünk be az alkalmazás-specifikus anyagok és az új anyagok terén. Függetlenül attól\, hogy elasztomer\, műanyag\, fém vagy polimer keverékek – olyan termékeket fejlesztünk és gyártunk\, amelyek pontosan az ügyfelek igényeihez vannak szabva. A mai HDT Veritas Hessen GmbH gyökerei a William Elliott által 1849-ben Berlinben alapított „Berliner Gummiwaarenfabrik”-ig nyúlnak vissza. Ezzel Németország legrégebbi gumifeldolgozó vállalata vagyunk.  \n			\n				\n				\n				\n				\n				KövetésKövetés\n			\n			\n				\n				\n				\n				\n			\n				\n				\n				\n				\n				\n				\n				\n				\n				\n				\n				Extra: Brainstorming HR Terasz tagokkal\n			\n				\n				\n				\n				\n				Az eseményen lehetőséged nyílik hozzád hasonló HR Terasz tagokkal egy közös ötletelésre. Vezetett beszélgetésünkön\, laza formában inspiráló tapasztalatokat\, nyerhetsz\, az aktuálisan legforróbb HR szakmai kérdésekre.  A lehetséges témáról az esemény előtt szavazunk!  \n			\n			\n				\n				\n				\n				\n			\n				\n				\n				\n				\n				\n				\n				\n				\n				\n				\n				 Lehetséges brainstorming témák:\n				\nértranszparencia törvény előkészületek – aktuális feladatok\, teendők a 2027-es bevezetéshez \n\n\nAI a HR-es munkában. Mire és hogyan érdemes használni? Felkészülés a mesterséges intelligencia tudatos használatára \n\n\nChatbot a belső kommunikáció javításában. Előnyök és lehetséges buktatók. Mire figyeljünk\, ha chatbotot kezdünk alkalmazni a szervezetünknél? \n\n\nTalent management – jó gyakorlatok\, mire kell figyelni egy jó utánpótlás program bevezetésénél \n\n+1   A MEGTARTÁS eszközei és módszertana 2025-ben  \n			\n			\n				\n				\n				\n				\n			\n				\n				\n				\n				\n				\n				\n				\n				\n				\n				\n				Hasznos infók \n			\n				\n				\n				\n				\n				Az eseményre limitált számban tudjuk fogadni tagjainkat. Érdemes minél előbb jelezni részvételi szándékod a jelentkezési űrlap kitöltésével. Az üzemlátogatáshoz saját chatcsoportot indítunk\, ahol lehetőséged van beszélgetni a házigazdával és a résztvevő HR-es tagtársaiddal. Az oda– és a visszautazás saját szervezésben történik\, de érdemes a csoportban egyeztetni a résztvevőkkel és akár közös autókba szerveződni\, hogy csökkentsük a szénlábnyomot.   \n			\n			\n				\n				\n				\n				\n			\n				\n				\n			\n				\n				\n				\n				\n				\n				\n				\n				\n				\n				\n				\n				\n				\n				\n				\n				\n				\n				Jelentkezz most\n			\n				\n				\n				\n				\n				Az esemény ingyenes\, de regisztrációhoz kötött\, kizárólag HR Terasz tagok vehetnek részt. Ha még nem vagy tag akkor emberi erőforrás területen dolgozó területen dolgozóként díjmentesen csatlakozhatsz szakmai közösségünkhöz. Olvasd el részletes szabályzatunkat és regisztrálj itt tagnak.  \n			\n				\n				\n				\n				\n				A létszám megtelt.
URL:https://hrterasz.hu/esemenyek/gyarlatogatas-hdt-veritas-program/
LOCATION:HDT Veritas Kft.\, Veritas u. 1. sz. Alatt\, Dunakiliti\, Győr-Moson-Sopron\, 9225\, Hungary
CATEGORIES:Gyárlátogatás
ATTACH;FMTTYPE=image/png:https://hrterasz.hu/wp-content/uploads/2025/03/HDT-Veritas-Hungary-gyarlatogatas-2025-majus-HR-Terasz-1200x628-1.png
END:VEVENT
END:VCALENDAR