BEGIN:VCALENDAR
VERSION:2.0
PRODID:-//HR Terasz - ECPv6.15.13//NONSGML v1.0//EN
CALSCALE:GREGORIAN
METHOD:PUBLISH
X-ORIGINAL-URL:https://hrterasz.hu
X-WR-CALDESC:Események HR Terasz
REFRESH-INTERVAL;VALUE=DURATION:PT1H
X-Robots-Tag:noindex
X-PUBLISHED-TTL:PT1H
BEGIN:VTIMEZONE
TZID:Europe/Budapest
BEGIN:DAYLIGHT
TZOFFSETFROM:+0100
TZOFFSETTO:+0200
TZNAME:CEST
DTSTART:20240331T010000
END:DAYLIGHT
BEGIN:STANDARD
TZOFFSETFROM:+0200
TZOFFSETTO:+0100
TZNAME:CET
DTSTART:20241027T010000
END:STANDARD
BEGIN:DAYLIGHT
TZOFFSETFROM:+0100
TZOFFSETTO:+0200
TZNAME:CEST
DTSTART:20250330T010000
END:DAYLIGHT
BEGIN:STANDARD
TZOFFSETFROM:+0200
TZOFFSETTO:+0100
TZNAME:CET
DTSTART:20251026T010000
END:STANDARD
BEGIN:DAYLIGHT
TZOFFSETFROM:+0100
TZOFFSETTO:+0200
TZNAME:CEST
DTSTART:20260329T010000
END:DAYLIGHT
BEGIN:STANDARD
TZOFFSETFROM:+0200
TZOFFSETTO:+0100
TZNAME:CET
DTSTART:20261025T010000
END:STANDARD
END:VTIMEZONE
BEGIN:VEVENT
DTSTART;TZID=Europe/Budapest:20251001T150000
DTEND;TZID=Europe/Budapest:20251001T160000
DTSTAMP:20260419T162640
CREATED:20250911T100831Z
LAST-MODIFIED:20251003T101337Z
UID:10000018-1759330800-1759334400@hrterasz.hu
SUMMARY:A jövő munkavállalói kompetenciái
DESCRIPTION:A jövő munkavállalói kompetenciái\n				\n				\n			\n				\n				\n				\n				\n				Online műsor\n			\n			\n				\n				\n				\n				\n			\n				\n				\n			\n				\n				\n				\n				\n				\n				\n				\n				\n				\n				\n				\n				\n				\n				\n				\n				\n				\n				2025.10.01.  \n15:00-16:00\nOnline közvetítés (zárt felületen)\nRésztvevők:\nHinterstein Anikó HR igazgató\, KPMG Magyarország \nDr. habil Szabó Szilvia Emberi erőforrás tanácsadó mester képzés szakvezető\, HR tanszékvezető főiskolai tanár\, Budapesti Metropolitan Egyetem Üzleti\, kommunikációs és turizmus kar \nKucsera Tamás Partnerkapcsolati referens\, HR-Evolution Kft. \nModerátor: \nFata LászlóCafeteria TREND \n			\n				\n				\n				\n				\n				A rendezvény ingyenes de regisztrációhoz kötött! \n			\n				Regisztrálok\n			\n			\n				\n				\n				\n				\n				\n				\n				\n				\n				\n				Milyen készségek és ismeretek lesznek elengedhetetlenek a következő évek munkaerőpiacán? Mit válaszolnának erre a kérdésre az egyetemisták\, akik most készülnek belépni a világába\, és hogyan látják ezt a gyakorló HR szakemberek\, akik nap mint nap találkoznak a munkáltatói elvárásokkal?   \n Ebben az adásban több nézőpontból vizsgáljuk meg\, hogy:  \n• melyek lesznek a legfontosabb készségek\, képességek\,  \n• hogyan változtatja meg a technológia és a mesterséges intelligencia a munkaerőpiacot\,  \n• milyen elvárásokkal kell számolniuk a fiataloknak\, és  \n• hogyan tudják a szervezetek\, a HR szakma támogatni a jövő munkavállalóit.  \nEgy nem mindennapi beszélgetés válogatott HR szakemberek részvételével arról\, hogy milyen kompetenciákon múlhat a siker a munka világában.  \n			\n			\n				\n				\n				\n				\n			\n				\n				\n			\n				\n				\n				\n				\n				\n				\n				\n				\n				\n				\n				\n				\n				\n				\n				\n				\n				\n				Vendégeink:\n			\n			\n				\n				\n				\n				\n			\n				\n				\n				\n				\n				\n				\n				\n				\n				\n				\n				\n					\n					\n						Hinterstein Anikó \n						HR igazgató\,  \nKPMG Magyarország  \n					\n				\n			\n				\n				\n				\n				\n				Követés\n			\n			\n				\n				\n				\n				\n				\n				\n				\n				\n				\n				\n					\n					\n						Dr. habil Szabó Szilvia\n						Emberi erőforrás tanácsadó mester képzés szakvezető\, HR tanszékvezető főiskolai tanár\,    \nBudapesti Metropolitan Egyetem Üzleti\, kommunikációs és turizmus kar \n					\n				\n			\n				\n				\n				\n				\n				Követés\n			\n			\n				\n				\n				\n				\n				\n				\n				\n				\n				\n				\n					\n					\n						Kucsera Tamás\n						Partnerkapcsolati referens\,  \nHR-Evolution Kft. \n					\n				\n			\n				\n				\n				\n				\n				Követés\n			\n			\n				\n				\n				\n				\n			\n				\n				\n			\n				\n				\n				\n				\n				\n				\n				\n				\n				\n				\n				\n				\n				\n				\n				\n				\n				\n				Jelentkezz most\n			\n				\n				\n				\n				\n				Az esemény ingyenes\, de regisztrációhoz kötött. \n			\n				Regisztrálok
URL:https://hrterasz.hu/esemenyek/a-jovo-munkavallaloi-kompetenciai/
CATEGORIES:Online műsor
ATTACH;FMTTYPE=image/png:https://hrterasz.hu/wp-content/uploads/2025/09/A-jovo-munkavallaloi-kompetenciai-HR-Terasz-adas-ajanlo-vendeges-2025-1200x628-1.png
ORGANIZER;CN="Fata L%C3%A1szl%C3%B3":MAILTO:info@hrterasz.hu
LOCATION:
END:VEVENT
END:VCALENDAR