BEGIN:VCALENDAR
VERSION:2.0
PRODID:-//HR Terasz - ECPv6.15.13//NONSGML v1.0//EN
CALSCALE:GREGORIAN
METHOD:PUBLISH
X-WR-CALNAME:HR Terasz
X-ORIGINAL-URL:https://hrterasz.hu
X-WR-CALDESC:Események HR Terasz
REFRESH-INTERVAL;VALUE=DURATION:PT1H
X-Robots-Tag:noindex
X-PUBLISHED-TTL:PT1H
BEGIN:VTIMEZONE
TZID:Europe/Budapest
BEGIN:DAYLIGHT
TZOFFSETFROM:+0100
TZOFFSETTO:+0200
TZNAME:CEST
DTSTART:20250330T010000
END:DAYLIGHT
BEGIN:STANDARD
TZOFFSETFROM:+0200
TZOFFSETTO:+0100
TZNAME:CET
DTSTART:20251026T010000
END:STANDARD
BEGIN:DAYLIGHT
TZOFFSETFROM:+0100
TZOFFSETTO:+0200
TZNAME:CEST
DTSTART:20260329T010000
END:DAYLIGHT
BEGIN:STANDARD
TZOFFSETFROM:+0200
TZOFFSETTO:+0100
TZNAME:CET
DTSTART:20261025T010000
END:STANDARD
BEGIN:DAYLIGHT
TZOFFSETFROM:+0100
TZOFFSETTO:+0200
TZNAME:CEST
DTSTART:20270328T010000
END:DAYLIGHT
BEGIN:STANDARD
TZOFFSETFROM:+0200
TZOFFSETTO:+0100
TZNAME:CET
DTSTART:20271031T010000
END:STANDARD
END:VTIMEZONE
BEGIN:VEVENT
DTSTART;TZID=Europe/Budapest:20260122T150000
DTEND;TZID=Europe/Budapest:20260122T160000
DTSTAMP:20260422T192220
CREATED:20260109T142240Z
LAST-MODIFIED:20260121T132100Z
UID:10000021-1769094000-1769097600@hrterasz.hu
SUMMARY:Teljesítményértékelés újratöltve-amikor a mérés motivációvá válik
DESCRIPTION:Teljesítményértékelés újratöltve-amikor a mérés motivációvá válik\n				\n				\n			\n				\n				\n				\n				\n				Kreatív csoport\, online műsor\n			\n			\n				\n				\n				\n				\n			\n				\n				\n			\n				\n				\n				\n				\n				\n				\n				\n				\n				\n				\n				\n				\n				\n				\n				\n				\n				\n				2026.01.22.  \n15:00-16:00\nOnline közvetítés (zárt felületen)\n\nRésztvevők: \nVágó BeátaHR vezető\,Intersnack \nVirág ImreHR szakértő\,Miskolci Egyetem Doktori Iskola \nErzse Tibor Munkaügyi szakértő\, tanácsadó\, OLM Rendszer \nModerátor: \nCsaposs NoémiElnök\,OHE \n  \n			\n				\n				\n				\n				\n				A rendezvény ingyenes de regisztrációhoz kötött! Töltsd ki az alábbi űrlapot a jelentkezéshez! \n			\n			\n				\n				\n				\n				\n				\n				\n				\n				\n				\n				 Három  szakértő\, gyakorlati tippek\, azonnal bevethető megoldások vezetőknek és HR-eseknek.  \n• Unod apipálgatós értékeléseket? Mutatjuk\, hogyan lesz belőlük motiváció és teljesítménynövekedés.   \n• Az értékelés lehet nyűg vagy hajtóerő. Mi az utóbbit építjük fel lépésről lépésre. \n• Értékelni úgy\, hogy közben motiválj: eszközök\, mondatok\, keretrendszer — dísz helyett hatás. Éves stressz helyett folyamatos lendület: célok\, visszajelzés\, elismerés a gyakorlatban.  \n• Hogyan lesz a scorecardból történet\, az Excelből elköteleződés?  \n• Mitől fogadja el a csapat az értékelést? \nCsatlakozz az online beszélgetéshez és inspirálódj belőle!  \n \nEz az interaktív műsor a HR Terasz kreatív csoport sorozatának része. Korábbi online műhelymunkáinkat a tudástárban tekintheted meg.  \n			\n				\n				\n				\n				\n				\n			\n			\n				\n				\n				\n				\n			\n				\n				\n				\n				\n				\n				\n				\n				\n				\n				\n				Résztvevők:\n			\n			\n				\n				\n				\n				\n			\n				\n				\n				\n				\n				\n				\n				\n				\n				\n				\n				\n					\n					\n						Vágó Beáta\n						HR vezető\, \nIntersnack  \n					\n				\n			\n				\n				\n				\n				\n				Követés\n			\n			\n				\n				\n				\n				\n				\n				\n				\n				\n				\n				\n					\n					\n						Virág Imre\n						HR szakértő\,   \nMiskolci Egyetem Doktori Iskola  \n					\n				\n			\n				\n				\n				\n				\n				Követés\n			\n			\n				\n				\n				\n				\n				\n				\n				\n				\n				\n				\n					\n					\n						Erzse Tibor\n						Alapító\, munkaügyi szakértő\, tanácsadó \nHR Terasz \n					\n				\n			\n				\n				\n				\n				\n				Követés\n			\n			\n				\n				\n				\n				\n			\n				\n				\n				\n				\n				\n				\n			\n				\n				\n				\n				\n			\n				\n				\n				\n				\n				\n				\n				\n				\n				\n				\n				\n                \n                        \n                            Teljesítményértékelés - kreatív csoport regisztráció\n                            Töltsd ki az űrlapot és a megadott email címre küldjük a belépési információkat. \n                        \n                        \n                                    Kapcsolati adatokNév(Kötelező)\n                            \n                            \n                                                    Vezetéknév\n                                                    \n                                                \n                            \n                            \n                                                            Keresztnév\n                                                            \n                                                        \n                            \n                        Email:(Kötelező)\n                            \n                        \n                    \n                    \n                          \n                    \n                \n                \n                    \n                        Általános adatokBeosztás:(Kötelező)HR Business PartnerHR ManagerHead of HRHR generalistaHR asszisztensHR koordinátorMunkaügyi asszisztensSzemélyzeti asszisztensToborzási- és kiválasztási specialistaRecruiterHR ResearcherHR gyakornokEgyébHa 'egyéb' a foglalkozásod akkor mi az? Cégnév:(Kötelező) Alkalmazottak száma:(Kötelező)Elérhetőség:Telefon(Kötelező)Hozzájárulás adataim kezeléséhez(Kötelező) Megismertem és elfogadom az adatvédelmi szabályzatot.
URL:https://hrterasz.hu/esemenyek/teljesitmenyertekeles-ujratoltve/
CATEGORIES:Kreatív csoport
ATTACH;FMTTYPE=image/png:https://hrterasz.hu/wp-content/uploads/2026/01/Teljesitmenyertekeles-ujratoltve–-HR-Terasz-adas-ajanlo-vendeges-1200x628-1.png
END:VEVENT
END:VCALENDAR