BEGIN:VCALENDAR
VERSION:2.0
PRODID:-//HR Terasz - ECPv6.15.13//NONSGML v1.0//EN
CALSCALE:GREGORIAN
METHOD:PUBLISH
X-ORIGINAL-URL:https://hrterasz.hu
X-WR-CALDESC:Események HR Terasz
REFRESH-INTERVAL;VALUE=DURATION:PT1H
X-Robots-Tag:noindex
X-PUBLISHED-TTL:PT1H
BEGIN:VTIMEZONE
TZID:Europe/Budapest
BEGIN:DAYLIGHT
TZOFFSETFROM:+0100
TZOFFSETTO:+0200
TZNAME:CEST
DTSTART:20240331T010000
END:DAYLIGHT
BEGIN:STANDARD
TZOFFSETFROM:+0200
TZOFFSETTO:+0100
TZNAME:CET
DTSTART:20241027T010000
END:STANDARD
BEGIN:DAYLIGHT
TZOFFSETFROM:+0100
TZOFFSETTO:+0200
TZNAME:CEST
DTSTART:20250330T010000
END:DAYLIGHT
BEGIN:STANDARD
TZOFFSETFROM:+0200
TZOFFSETTO:+0100
TZNAME:CET
DTSTART:20251026T010000
END:STANDARD
BEGIN:DAYLIGHT
TZOFFSETFROM:+0100
TZOFFSETTO:+0200
TZNAME:CEST
DTSTART:20260329T010000
END:DAYLIGHT
BEGIN:STANDARD
TZOFFSETFROM:+0200
TZOFFSETTO:+0100
TZNAME:CET
DTSTART:20261025T010000
END:STANDARD
BEGIN:DAYLIGHT
TZOFFSETFROM:+0100
TZOFFSETTO:+0200
TZNAME:CEST
DTSTART:20270328T010000
END:DAYLIGHT
BEGIN:STANDARD
TZOFFSETFROM:+0200
TZOFFSETTO:+0100
TZNAME:CET
DTSTART:20271031T010000
END:STANDARD
END:VTIMEZONE
BEGIN:VEVENT
DTSTART;TZID=Europe/Budapest:20260325T150000
DTEND;TZID=Europe/Budapest:20260325T160000
DTSTAMP:20260421T201619
CREATED:20260312T105137Z
LAST-MODIFIED:20260320T060447Z
UID:10000026-1774450800-1774454400@hrterasz.hu
SUMMARY:Intuíció vagy adat? – Az adatalapú kiválasztás az AI korszakában
DESCRIPTION:Fata László \n				\n				\n			\n				\n				\n				\n				\n				Online adás\n			\n			\n				\n				\n				\n				\n			\n				\n				\n			\n\n				\n				\n				\n				\n				\n				\n				\n				\n				\n				\n				\n				\n				\n				\n				\n				\n				\n				2026.03.25.  \n15:00-16:00\nOnline közvetítés (zárt felületen)\n\nRésztvevők: \nKöntös TamásVezérigazgató\, Hireify ATS Zrt. \nTovábbi vendégek hamarosan \nModerátor:   \nFata Lászó  \nCafeteriaTREND \n			\n				\n				\n				\n				\n				A rendezvény ingyenes de regisztrációhoz kötött. Töltsd ki az alábbi űrlapot a regisztrációhoz! \n			\n				Regisztrálok\n			\n			\n				\n				\n				\n				\n				\n				\n				\n				\n				\n				A kiválasztás ma már nem csak HR-folyamat\, hanem üzleti döntés.Mégis sok esetben továbbra is szimpátia\, megérzések\, benyomások és sürgető határidők mentén születnek meg a döntések.  \nEbben a HR Terasz adásban arról beszélgetünk:   \n• Mit jelent az adatalapú kiválasztás a gyakorlatban?  \n• Hogyan mérhető a kiválasztás sikeressége?  \n• Honnan tudjuk\, mit jelent a „jó jelölt”?  \n• Milyen KPI-ok számítanak valóban (és melyek félrevezetők)?  \n• Mit tud hozzátenni az AI – és hol marad elengedhetetlen az emberi döntés?  \n Szó lesz intuícióról\, torzításokról\, felelősségről és arról is\, hogy a HR hogyan tud valódi üzleti partnerként működni a kiválasztási döntésekben.  \nEz az epizód azoknak szól\, akik nem csak betölteni szeretnék a pozíciókat – hanem tudatosan\, mérhetően és stratégiailag jól dönteni.  \n  \n			\n			\n				\n				\n				\n				\n			\n				\n				\n				\n				\n				\n				\n				\n				\n				\n				\n				Résztvevők:\n			\n			\n				\n				\n				\n				\n			\n				\n				\n				\n				\n				\n				\n				\n				\n				\n				\n				\n					\n					\n						Köntös Tamás \n						Vezérigazgató\,  \nHireify ATS Zrt. \n					\n				\n			\n				\n				\n				\n				\n				Követés\n			\n			\n				\n				\n				\n				\n				\n				\n				\n				\n				\n				\n					\n					\n						Fata lászló\n						Moderátor \nCafeteria TREND \n					\n				\n			\n				\n				\n				\n				\n				Követés
URL:https://hrterasz.hu/esemenyek/intuicio-vagy-adat/
CATEGORIES:Online műsor
ATTACH;FMTTYPE=image/png:https://hrterasz.hu/wp-content/uploads/2026/03/Intuicio-vagy-adat-40-HR-Terasz-v1.1-1200x628-1.png
ORGANIZER;CN="Fata L%C3%A1szl%C3%B3":MAILTO:info@hrterasz.hu
END:VEVENT
BEGIN:VEVENT
DTSTART;TZID=Europe/Budapest:20260311T150000
DTEND;TZID=Europe/Budapest:20260311T160000
DTSTAMP:20260421T201619
CREATED:20260218T081615Z
LAST-MODIFIED:20260304T143344Z
UID:10000025-1773241200-1773244800@hrterasz.hu
SUMMARY:Vállalati egészség a wellbeingen túl
DESCRIPTION:Fata László \n				\n				\n			\n				\n				\n				\n				\n				Online adás\n			\n			\n				\n				\n				\n				\n			\n				\n				\n			\n\n				\n				\n				\n				\n				\n				\n				\n				\n				\n				\n				\n				\n				\n				\n				\n				\n				\n				2026.03.11.  \n15:00-16:00\nOnline közvetítés (zárt felületen)\n\nRésztvevők: \nAngyal AndreaHead of People Services\,People Unit\,Magyar Telekom \nBelső GabriellaHead of HR Process and Performance Management\,Egis Zrt. \nBudai Józsefügyvezető igazgató\,OTP Egészségpénztár \n \nModerátor:   \nFata Lászó  \nCafeteriaTREND \n			\n				\n				\n				\n				\n				A rendezvény ingyenes de regisztrációhoz kötött. Töltsd ki az alábbi űrlapot a regisztrációhoz! \n			\n				Regisztrálok\n			\n			\n				\n				\n				\n				\n				\n				\n				\n				\n				\n				Több mint wellbeing: mitől lesz egy szervezet valóban egészséges?  \nA vállalati egészség ma már messze nem csak gyümölcsnapot\, jógabérletet vagy mentális egészségnapot jelent. De akkor mit is jelent valójában\, és miért vált stratégiai kérdéssé a szervezetek számára?  \nEbben az adásban azt járjuk körül\, hogyan értelmezhető a vállalati egészség üzleti\, HR- és emberi oldalról egyszerre\, és mi az\, ami valóban hat a munkavállalók jóllétére – a felszíni megoldásokon túl.  \n• Mit jelent a vállalati egészség ma? (fizikai\, mentális\, érzelmi és szervezeti dimenziók)  \n• Hol csúszik félre leggyakrabban a szervezeti egészség fejlesztése?  \n• Milyen jelek mutatják\, hogy egy szervezet nem egészséges?  \n• Mi a vezetők szerepe a vállalati egészség megvalósításában?  \n• Milyen HR-eszközök segíthetnek valódi változást elérni?  \n• Hogyan kapcsolódik a vállalati egészség az üzleti eredményekhez?  \nEzekre a kérdésekre és az Ön által hozott felvetéseket keresünk gyakorlatias válaszokat a HR Terasz online\, élő tapasztalatcseréjében.  \n			\n			\n				\n				\n				\n				\n			\n				\n				\n				\n				\n				\n				\n				\n				\n				\n				\n				Résztvevők:\n			\n			\n				\n				\n				\n				\n			\n				\n				\n				\n				\n				\n				\n				\n				\n				\n				\n				\n					\n					\n						Angyal Andrea\n						Head of People Services\, People Unit\, \nMagyar Telekom  \n					\n				\n			\n				\n				\n				\n				\n				Követés\n			\n			\n				\n				\n				\n				\n				\n				\n				\n				\n				\n				\n					\n					\n						Belső Gabriella\n						Head of HR Process and Performance Management\, \nEgis Zrt. \n					\n				\n			\n				\n				\n				\n				\n				Követés\n			\n			\n				\n				\n				\n				\n				\n				\n				\n				\n				\n				\n					\n					\n						Budai József \n						ügyvezető igazgató\,  \nOTP Egészségpénztár   \n					\n				\n			\n				\n				\n				\n				\n				Követés\n			\n			\n				\n				\n				\n				\n				\n				\n				\n				\n				\n				\n					\n					\n						Fata lászló\n						Moderátor \nCafeteria TREND \n					\n				\n			\n				\n				\n				\n				\n				Követés
URL:https://hrterasz.hu/esemenyek/vallalati-egeszseg-a-wellbeingen-tul/
CATEGORIES:Online műsor
ATTACH;FMTTYPE=image/png:https://hrterasz.hu/wp-content/uploads/2026/02/Vallalati-egeszseg-musorajanlo-HR-Terasz-v4-1200x628-1.png
ORGANIZER;CN="Fata L%C3%A1szl%C3%B3":MAILTO:info@hrterasz.hu
END:VEVENT
BEGIN:VEVENT
DTSTART;TZID=Europe/Budapest:20260225T150000
DTEND;TZID=Europe/Budapest:20260225T160000
DTSTAMP:20260421T201619
CREATED:20260204T084123Z
LAST-MODIFIED:20260216T095211Z
UID:10000023-1772031600-1772035200@hrterasz.hu
SUMMARY:Vezetőfejlesztés és fluktuáció
DESCRIPTION:Fata László \n				\n				\n			\n				\n				\n				\n				\n				Online adás\n			\n			\n				\n				\n				\n				\n			\n				\n				\n			\n\n				\n				\n				\n				\n				\n				\n				\n				\n				\n				\n				\n				\n				\n				\n				\n				\n				\n				2026.02.25.  \n15:00-16:00\nOnline közvetítés (zárt felületen)\n\nRésztvevők: \nCsikós-Nagy Katalin Munkaerő megtartás nagykövete\, a Megtartás könyv szerzője\, HR-Evolution Kft. \nMarton Klaudia HR Igazgató\, Groupama Biztosító Zrt. \nPaulik Ágnes HR vezető\, RR Donnelley Magyarország Kft. \n \nModerátor:   \nFata Lászó  \nCafeteriaTREND \n			\n				\n				\n				\n				\n				A rendezvény ingyenes de regisztrációhoz kötött. Töltsd ki az alábbi űrlapot a regisztrációhoz! \n			\n				Regisztrálok\n			\n			\n				\n				\n				\n				\n				\n				\n				\n				\n				\n				A fluktuációt gyakran bérrel\, terheléssel vagy a munkaerőpiaci helyzettel magyarázzuk. De mi van akkor\, ha a valódi ok közvetlenül vezetőhöz kapcsolódik?  \n Ebben az adásban arról beszélgetünk\, hogyan lehet időben észrevenni\, ha egy vezető nem megtartó\, hanem taszító hatással van a csapatára\, és mit tehetünk HR-esként vagy felsővezetőként\, mielőtt az elvándorlás komolyabb problémává válik.  \n• Milyen jelek utalnak arra\, hogy a vezető a fluktuáció egyik fő oka?  \n• Milyen HR-eszközök segítenek a valódi okok feltárásában?  \n• Hogyan kommunikáljuk mindezt a vezetők és a felsővezetés felé?  \n• Mit lehet (és mit nem érdemes) tenni vezetőfejlesztés címén?  \nEzekre a kérdésekre és az Ön által hozott felvetéseket keresünk gyakorlatias válaszokat a HR Terasz online\, élő tapasztalatcseréjében.  \n			\n			\n				\n				\n				\n				\n			\n				\n				\n				\n				\n				\n				\n				\n				\n				\n				\n				\n					\n					\n						Csikós-Nagy Katalin\n						Munkaerő megtartás nagykövete\, a Megtartás könyv szerzője\,  \nHR-Evolution Kft.  \n					\n				\n			\n				\n				\n				\n				\n				Követés\n			\n			\n				\n				\n				\n				\n				\n				\n				\n				\n				\n				\n					\n					\n						Marton Klaudia\n						HR Igazgató\, \nGroupama Biztosító Zrt.   \n					\n				\n			\n				\n				\n				\n				\n				Követés\n			\n			\n				\n				\n				\n				\n				\n				\n				\n				\n				\n				\n					\n					\n						Paulik Ágnes\n						HR vezető\, \nRR Donnelley Magyarország Kft.   \n					\n				\n			\n				\n				\n				\n				\n				Követés\n			\n			\n				\n				\n				\n				\n				\n				\n				\n				\n				\n				\n					\n					\n						Fata lászló\n						Moderátor \nCafeteria TREND \n					\n				\n			\n				\n				\n				\n				\n				Követés
URL:https://hrterasz.hu/esemenyek/vezetofejlesztes-es-fluktuacio/
CATEGORIES:Online műsor
ATTACH;FMTTYPE=image/png:https://hrterasz.hu/wp-content/uploads/2026/02/Vezetofejlesztes–-HR-Terasz-adas-ajanlo-vendeges-1200x628-2.png
ORGANIZER;CN="Fata L%C3%A1szl%C3%B3":MAILTO:info@hrterasz.hu
END:VEVENT
BEGIN:VEVENT
DTSTART;TZID=Europe/Budapest:20260128T150000
DTEND;TZID=Europe/Budapest:20260128T160000
DTSTAMP:20260421T201619
CREATED:20260113T112013Z
LAST-MODIFIED:20260123T082813Z
UID:10000022-1769612400-1769616000@hrterasz.hu
SUMMARY:Béremelés 2026.
DESCRIPTION:Fata László \n				\n				\n			\n				\n				\n				\n				\n				Online műsor\n			\n			\n				\n				\n				\n				\n			\n				\n				\n			\n\n				\n				\n				\n				\n				\n				\n				\n				\n				\n				\n				\n				\n				\n				\n				\n				\n				\n				2026.01.28.  \n15:00-16:00\nOnline közvetítés (zárt felületen)\n\nRésztvevők: \nHamarosan \nHázigazda: \nFata LászlóCafeteria Trend  \n			\n				\n				\n				\n				\n				A rendezvény ingyenes de regisztrációhoz kötött. Töltsd ki az alábbi űrlapot a regisztrációhoz! \n			\n				Regisztrálok\n			\n			\n				\n				\n				\n				\n				\n				\n				\n				\n				\n				A béremelés minden évben az egyik legérzékenyebb HR- és vezetői kihívás. A 2026-os béremeléshez\, juttatásokhoz kapcsolódó adásban azt járjuk körül\, milyen gazdasági és munkaerőpiaci hatások formálják a béreket és a munkavállalói elvárásokat\, és hogyan készítsük elő ezt a változást. \n• Milyen értékekkel terveznek mások a munkaerőpiacon? \n• Milyen trendeket\, hatásokat kell figyelni 2026-ban? \n• Hogyan hat a gazdasági környezet a béremelés kérdésére? \n• Általános vagy éppen a differenciált emelés mellet döntsünk? \n• Hogyan lehet professzionálisan levezényelni ezt a folyamatot? \nAz adás gyakorlati szempontból közelíti meg a témát: nemcsak trendekről beszélünk\, hanem döntési helyzetekről\, dilemmákról és tipikus hibákról is\, amelyekkel a szervezetek 2026-ban szembesülhetnek.  \nEzekre a kérdésekre és az Ön által hozott felvetéseket keresünk gyakorlatias válaszokat a HR Terasz online\, élő tapasztalatcseréjében. \n			\n			\n				\n				\n				\n				\n			\n				\n				\n				\n				\n				\n				\n				\n				\n				\n				\n				Résztvevők:\n			\n			\n				\n				\n				\n				\n			\n				\n				\n				\n				\n				\n				\n				\n				\n				\n				\n				\n					\n					\n						dr. Békés-Navratil Zsuzsa\n						HR vezető\, \nJCDecaux Hungary \n					\n				\n			\n				\n				\n				\n				\n				Követés\n			\n			\n				\n				\n				\n				\n				\n				\n				\n				\n				\n				\n					\n					\n						Torma Boglárka\n						HR vezető\, \nSoft Flow \n					\n				\n			\n				\n				\n				\n				\n				Követés\n			\n			\n				\n				\n				\n				\n				\n				\n				\n				\n				\n				\n					\n					\n						Fata lászló\n						Moderátor \nCafeteria TREND \n					\n				\n			\n				\n				\n				\n				\n				Követés
URL:https://hrterasz.hu/esemenyek/beremeles-2026/
CATEGORIES:Online műsor
ATTACH;FMTTYPE=image/png:https://hrterasz.hu/wp-content/uploads/2026/01/Beremeles-2026–-HR-Terasz-adas-ajanlo-vendeges-1200x628-1.png
ORGANIZER;CN="Fata L%C3%A1szl%C3%B3":MAILTO:info@hrterasz.hu
END:VEVENT
BEGIN:VEVENT
DTSTART;TZID=Europe/Budapest:20251001T150000
DTEND;TZID=Europe/Budapest:20251001T160000
DTSTAMP:20260421T201620
CREATED:20250911T100831Z
LAST-MODIFIED:20251003T101337Z
UID:10000018-1759330800-1759334400@hrterasz.hu
SUMMARY:A jövő munkavállalói kompetenciái
DESCRIPTION:Fata László \n				\n				\n			\n				\n				\n				\n				\n				Online műsor\n			\n			\n				\n				\n				\n				\n			\n				\n				\n			\n\n				\n				\n				\n				\n				\n				\n				\n				\n				\n				\n				\n				\n				\n				\n				\n				\n				\n				2025.10.01.  \n15:00-16:00\nOnline közvetítés (zárt felületen)\nRésztvevők:\nHinterstein Anikó HR igazgató\, KPMG Magyarország \nDr. habil Szabó Szilvia Emberi erőforrás tanácsadó mester képzés szakvezető\, HR tanszékvezető főiskolai tanár\, Budapesti Metropolitan Egyetem Üzleti\, kommunikációs és turizmus kar \nKucsera Tamás Partnerkapcsolati referens\, HR-Evolution Kft. \nModerátor: \nFata LászlóCafeteria TREND \n			\n				\n				\n				\n				\n				A rendezvény ingyenes de regisztrációhoz kötött! \n			\n				Regisztrálok\n			\n			\n				\n				\n				\n				\n				\n				\n				\n				\n				\n				Milyen készségek és ismeretek lesznek elengedhetetlenek a következő évek munkaerőpiacán? Mit válaszolnának erre a kérdésre az egyetemisták\, akik most készülnek belépni a világába\, és hogyan látják ezt a gyakorló HR szakemberek\, akik nap mint nap találkoznak a munkáltatói elvárásokkal?   \n Ebben az adásban több nézőpontból vizsgáljuk meg\, hogy:  \n• melyek lesznek a legfontosabb készségek\, képességek\,  \n• hogyan változtatja meg a technológia és a mesterséges intelligencia a munkaerőpiacot\,  \n• milyen elvárásokkal kell számolniuk a fiataloknak\, és  \n• hogyan tudják a szervezetek\, a HR szakma támogatni a jövő munkavállalóit.  \nEgy nem mindennapi beszélgetés válogatott HR szakemberek részvételével arról\, hogy milyen kompetenciákon múlhat a siker a munka világában.  \n			\n			\n				\n				\n				\n				\n			\n				\n				\n			\n\n				\n				\n				\n				\n				\n				\n				\n				\n				\n				\n				\n				\n				\n				\n				\n				\n				\n				Vendégeink:\n			\n			\n				\n				\n				\n				\n			\n				\n				\n				\n				\n				\n				\n				\n				\n				\n				\n				\n					\n					\n						Hinterstein Anikó \n						HR igazgató\,  \nKPMG Magyarország  \n					\n				\n			\n				\n				\n				\n				\n				Követés\n			\n			\n				\n				\n				\n				\n				\n				\n				\n				\n				\n				\n					\n					\n						Dr. habil Szabó Szilvia\n						Emberi erőforrás tanácsadó mester képzés szakvezető\, HR tanszékvezető főiskolai tanár\,    \nBudapesti Metropolitan Egyetem Üzleti\, kommunikációs és turizmus kar \n					\n				\n			\n				\n				\n				\n				\n				Követés\n			\n			\n				\n				\n				\n				\n				\n				\n				\n				\n				\n				\n					\n					\n						Kucsera Tamás\n						Partnerkapcsolati referens\,  \nHR-Evolution Kft. \n					\n				\n			\n				\n				\n				\n				\n				Követés\n			\n			\n				\n				\n				\n				\n			\n				\n				\n			\n\n				\n				\n				\n				\n				\n				\n				\n				\n				\n				\n				\n				\n				\n				\n				\n				\n				\n				Jelentkezz most\n			\n				\n				\n				\n				\n				Az esemény ingyenes\, de regisztrációhoz kötött. \n			\n				Regisztrálok
URL:https://hrterasz.hu/esemenyek/a-jovo-munkavallaloi-kompetenciai/
CATEGORIES:Online műsor
ATTACH;FMTTYPE=image/png:https://hrterasz.hu/wp-content/uploads/2025/09/A-jovo-munkavallaloi-kompetenciai-HR-Terasz-adas-ajanlo-vendeges-2025-1200x628-1.png
ORGANIZER;CN="Fata L%C3%A1szl%C3%B3":MAILTO:info@hrterasz.hu
LOCATION:
END:VEVENT
BEGIN:VEVENT
DTSTART;TZID=Europe/Budapest:20250909T150000
DTEND;TZID=Europe/Budapest:20250909T160000
DTSTAMP:20260421T201620
CREATED:20250826T075502Z
LAST-MODIFIED:20250904T111242Z
UID:10000016-1757430000-1757433600@hrterasz.hu
SUMMARY:Kutyabarát munkahely 2025-ben
DESCRIPTION:Fata László \n				\n				\n			\n				\n				\n				\n				\n				Online műsor\n			\n			\n				\n				\n				\n				\n			\n				\n				\n			\n\n				\n				\n				\n				\n				\n				\n				\n				\n				\n				\n				\n				\n				\n				\n				\n				\n				\n				2025.09.09.  \n15:00-16:00\nOnline közvetítés (zárt felületen)\nRésztvevők:\nHorváth-Tóth BoglárkaVezető tréner\, habilitációs kutyakiképző\, DogToDo Kft. \nPataki TímeaIgazgatótanács elnöke\, Prémium Önkéntes Nyugdíjpénztár  \nRegdon Adrienn Csoportszintű Munkavállalói élmény és Kultúra Szakértő\, MOL Nyrt.  \n  \nModerátor: \nFata LászlóCafeteria TREND \n			\n				\n				\n				\n				\n				A rendezvény ingyenes de regisztrációhoz kötött! \n			\n				Regisztrálok\n			\n			\n				\n				\n				\n				\n				\n				\n				\n				\n				\n				Egyre több munkahely nyitja meg kapuit a négylábú társak előtt\, ez 2025-ben már nem is annyira különlegesség. A kutyabarát irodák egyrészt oldottabb\, barátságosabb légkört teremthetnek\, hozzájárulhatnak a dolgozói elégedettséghez\, de kényelmetlen konfliktusforrások is lehetnek ember és kutya számára.  \n Ebben az epizódban arról beszélgetünk\, hogy:  \n • hogyan lehet egy konfliktusmentes kutyabarát munkahelyet kialakítani\,  \n• milyen szabályok és keretek segítenek a mindennapokban\,  \n• mit tegyen\, aki fontolgatja a bevezetést\,  \n• mit tanulhattunk az elmúlt évekből\,  \n• hogyan lehet a legtöbbet kihozni a kutyabarát munkahelyből  \n Tarts velünk a HR Teraszon\, és nézd meg\, hogyan válhat a munkahely egyszerre ember- és kutyabarát térré! 🐾  \n			\n			\n				\n				\n				\n				\n			\n				\n				\n			\n\n				\n				\n				\n				\n				\n				\n				\n				\n				\n				\n				\n				\n				\n				\n				\n				\n				\n				Vendégeink:\n			\n			\n				\n				\n				\n				\n			\n				\n				\n				\n				\n				\n				\n				\n				\n				\n				\n				\n					\n					\n						Horváth-Tóth Boglárka\n						Vezető tréner\, habilitációs kutyakiképző\, \nDog ToDo Kft.  \n					\n				\n			\n				\n				\n				\n				\n				Követés\n			\n			\n				\n				\n				\n				\n				\n				\n				\n				\n				\n				\n					\n					\n						Pataki Tímea\n						Igazgatótanács elnöke\,  \nPrémium Önkéntes Nyugdíjpénztár  \n					\n				\n			\n				\n				\n				\n				\n				Követés\n			\n			\n				\n				\n				\n				\n				\n				\n				\n				\n				\n				\n					\n					\n						Regdon Adrienn\n						Csoportszintű Munkavállalói élmény és Kultúra Szakértő\,  \nMOL Nyrt.  \n					\n				\n			\n				\n				\n				\n				\n				Követés\n			\n			\n				\n				\n				\n				\n			\n				\n				\n			\n\n				\n				\n				\n				\n				\n				\n				\n				\n				\n				\n				\n				\n				\n				\n				\n				\n				\n				Jelentkezz most\n			\n				\n				\n				\n				\n				Az esemény ingyenes\, de regisztrációhoz kötött. \n			\n				Regisztrálok
URL:https://hrterasz.hu/esemenyek/kutyabarat-munkahely-2025/
CATEGORIES:Online műsor
ATTACH;FMTTYPE=image/png:https://hrterasz.hu/wp-content/uploads/2025/08/vendegekkel-Kutyabarat-munkahely-2025-ben-HR-Terasz-adas-ajanlo-2025-1200x628-1.png
ORGANIZER;CN="Fata L%C3%A1szl%C3%B3":MAILTO:info@hrterasz.hu
LOCATION:
END:VEVENT
BEGIN:VEVENT
DTSTART;TZID=Europe/Budapest:20250507T150000
DTEND;TZID=Europe/Budapest:20250507T160000
DTSTAMP:20260421T201620
CREATED:20250402T070407Z
LAST-MODIFIED:20250507T140624Z
UID:10000007-1746630000-1746633600@hrterasz.hu
SUMMARY:HR Dashboard – Hogyan mérjük a HR működését?
DESCRIPTION:Fata László \n				\n				\n			\n				\n				\n				\n				\n				Online műsor\n			\n			\n				\n				\n				\n				\n			\n				\n				\n			\n\n				\n				\n				\n				\n				\n				\n				\n				\n				\n				\n				\n				\n				\n				\n				\n				\n				\n				2025.05.07.  \n15:00-16:00\nOnline közvetítés (zárt felületen)\nRésztvevők:\nBelső Gabriella Head of HR Process and Performance Management\, Egis Zrt.   Faragó István Reward and HR Analytics Lead – South-East Europe\, Deloitte   Kaszás Helga HR és üzleti folyamat tanácsadó\, www.kaszashelga.hu  \nModerátor: Fata LászlóCafeteria TREND \nA rendezvény ingyenes de regisztrációhoz kötött! \n			\n				Regisztrálok\n			\n			\n				\n				\n				\n				\n				\n				\n				\n				\n				\n				A modern HR stratégiai szerepe egyre inkább a mérhető eredményekre épül. Egy jól felépített HR Dashboard segíti a vezetőket abban\, hogy átlássák a szervezet működését\, időben felismerjék a kihívásokat és megalapozott döntéseket hozzanak.  \n\nMelyek azok a kulcsmutatók\, amelyek valóban tükrözik a HR teljesítményét? \n\n\nHogyan\, milyen eszközökkel és milyen gyakran érdemes mérni ezeket? \n\n\nHogyan támogathatja a HR Dashboard a vezetői döntéshozatalt és az üzleti célok elérését? \n\n\nEzekről a kérdésekről és az általad hozott felvetésekről beszélgetünk a HR Terasz következő online\, élő tapasztalatcseréjén \n			\n			\n				\n				\n				\n				\n			\n				\n				\n			\n\n				\n				\n				\n				\n				\n				\n				\n				\n				\n				\n				\n				\n				\n				\n				\n				\n				\n				Vendégeink:\n			\n			\n				\n				\n				\n				\n			\n				\n				\n				\n				\n				\n				\n				\n				\n				\n				\n				\n					\n					\n						Belső Gabriella\n						Head of HR Process and Performance Management\, \nEgis Zrt. \n  \n					\n				\n			\n				\n				\n				\n				\n				Követés\n			\n			\n				\n				\n				\n				\n				\n				\n				\n				\n				\n				\n					\n					\n						Faragó István\n						Reward and HR Analytics Lead – South-East Europe\, \nDeloitte \n  \n					\n				\n			\n				\n				\n				\n				\n				Követés\n			\n			\n				\n				\n				\n				\n				\n				\n				\n				\n				\n				\n					\n					\n						Kaszás Helga\n						HR és üzleti folyamat tanácsadó\, \nwww.kaszashelga.hu \n  \n					\n				\n			\n				\n				\n				\n				\n				Követés\n			\n			\n				\n				\n				\n				\n			\n				\n				\n			\n\n				\n				\n				\n				\n				\n				\n				\n				\n				\n				\n				\n				\n				\n				\n				\n				\n				\n				Jelentkezz most\n			\n				\n				\n				\n				\n				Az esemény ingyenes\, de regisztrációhoz kötött\, kizárólag HR Terasz tagok vehetnek részt. Ha még nem vagy tag akkor emberi erőforrás területen dolgozó területen dolgozóként díjmentesen csatlakozhatsz szakmai közösségünkhöz. Olvasd el részletes szabályzatunkat és regisztrálj itt tagnak.  \n			\n				Regisztrálok
URL:https://hrterasz.hu/esemenyek/hr-dashboard-hogyan-merjuk-a-hr-mukodeset/
CATEGORIES:Online műsor
ATTACH;FMTTYPE=image/png:https://hrterasz.hu/wp-content/uploads/2025/04/28.adas-HR-Dashboard-2025-HRE-Terasz.png
ORGANIZER;CN="Fata L%C3%A1szl%C3%B3":MAILTO:info@hrterasz.hu
END:VEVENT
END:VCALENDAR